BEGIN:VCALENDAR
VERSION:2.0
PRODID:-//ARMD, Association de Rétine Méditerranéenne et Développement - ECPv6.15.20//NONSGML v1.0//EN
CALSCALE:GREGORIAN
METHOD:PUBLISH
X-WR-CALNAME:ARMD, Association de Rétine Méditerranéenne et Développement
X-ORIGINAL-URL:https://armd-france.org
X-WR-CALDESC:Évènements pour ARMD, Association de Rétine Méditerranéenne et Développement
REFRESH-INTERVAL;VALUE=DURATION:PT1H
X-Robots-Tag:noindex
X-PUBLISHED-TTL:PT1H
BEGIN:VTIMEZONE
TZID:Europe/Paris
BEGIN:DAYLIGHT
TZOFFSETFROM:+0100
TZOFFSETTO:+0200
TZNAME:CEST
DTSTART:20240331T010000
END:DAYLIGHT
BEGIN:STANDARD
TZOFFSETFROM:+0200
TZOFFSETTO:+0100
TZNAME:CET
DTSTART:20241027T010000
END:STANDARD
BEGIN:DAYLIGHT
TZOFFSETFROM:+0100
TZOFFSETTO:+0200
TZNAME:CEST
DTSTART:20250330T010000
END:DAYLIGHT
BEGIN:STANDARD
TZOFFSETFROM:+0200
TZOFFSETTO:+0100
TZNAME:CET
DTSTART:20251026T010000
END:STANDARD
BEGIN:DAYLIGHT
TZOFFSETFROM:+0100
TZOFFSETTO:+0200
TZNAME:CEST
DTSTART:20260329T010000
END:DAYLIGHT
BEGIN:STANDARD
TZOFFSETFROM:+0200
TZOFFSETTO:+0100
TZNAME:CET
DTSTART:20261025T010000
END:STANDARD
END:VTIMEZONE
BEGIN:VEVENT
DTSTART;VALUE=DATE:20250321
DTEND;VALUE=DATE:20250323
DTSTAMP:20260421T101409
CREATED:20250213T084159Z
LAST-MODIFIED:20250213T084159Z
UID:7519-1742515200-1742687999@armd-france.org
SUMMARY:25è Journées de Réflexions Ophtalmologiques - JRO
DESCRIPTION:La 25è édition des JRO se déroule les vendredi 21 et samedi 22 mars au CNIT\, à Paris. Chirurgie\, Ophtalmopédiatrie\, Strabologie\, Orthoptie\, Cataracte\, Glaucome\, Cornée\, Contactologie\, Rétine\, Neuro… toutes les spécialités seront abordées.
URL:https://armd-france.org/evenements/25e-journees-de-reflexions-ophtalmologiques-jro/
LOCATION:Paris\, France
CATEGORIES:Congrès
ATTACH;FMTTYPE=image/jpeg:https://armd-france.org/wp-content/uploads/2025/02/JRO-2025.jpg
END:VEVENT
BEGIN:VEVENT
DTSTART;VALUE=DATE:20250328
DTEND;VALUE=DATE:20250329
DTSTAMP:20260421T101409
CREATED:20250213T090638Z
LAST-MODIFIED:20250213T090710Z
UID:7527-1743120000-1743206399@armd-france.org
SUMMARY:Rétine en pratique
DESCRIPTION:Thème : Comment la choroïde est impliquée dans les maladies du fond d’œil \n  \n\n\n\n\n\n\n\nLes récents progrès de l’imagerie par OCT ont révolutionné notre compréhension de la choroïde\, mettant en lumière son rôle clé dans le diagnostic et le pronostic des maladies rétiniennes. Cette journée d’enseignement offrira une vue d’ensemble des variations choroïdiennes\, tant en conditions normales que pathologiques\, notamment dans des affections comme la myopie forte\, la maladie de Harada\, la DMLA et la CSC. Les participants découvriront les dernières avancées en matière d’imagerie\, telles que l’holographie Doppler et l’OCT ultra grand-champ\, ainsi que de nouvelles approches thérapeutiques ciblant la choroïde. Rejoignez des experts de renom pour une synthèse des connaissances actuelles et des conseils pratiques dans ce domaine clé des soins rétiniens.\n\nLa Journée d’Enseignement Rétine en Pratique 2025 aura lieu à la Maison de la Chimie\, à Paris\, le vendredi 28 mars.
URL:https://armd-france.org/evenements/retine-en-pratique/
LOCATION:Paris\, France
CATEGORIES:Congrès
ATTACH;FMTTYPE=image/png:https://armd-france.org/wp-content/uploads/2025/02/Retine-en-pratique-2025.png
END:VEVENT
END:VCALENDAR