BEGIN:VCALENDAR
VERSION:2.0
PRODID:-//ARMD, Association de Rétine Méditerranéenne et Développement - ECPv6.15.20//NONSGML v1.0//EN
CALSCALE:GREGORIAN
METHOD:PUBLISH
X-WR-CALNAME:ARMD, Association de Rétine Méditerranéenne et Développement
X-ORIGINAL-URL:https://armd-france.org
X-WR-CALDESC:Évènements pour ARMD, Association de Rétine Méditerranéenne et Développement
REFRESH-INTERVAL;VALUE=DURATION:PT1H
X-Robots-Tag:noindex
X-PUBLISHED-TTL:PT1H
BEGIN:VTIMEZONE
TZID:Europe/Paris
BEGIN:DAYLIGHT
TZOFFSETFROM:+0100
TZOFFSETTO:+0200
TZNAME:CEST
DTSTART:20230326T010000
END:DAYLIGHT
BEGIN:STANDARD
TZOFFSETFROM:+0200
TZOFFSETTO:+0100
TZNAME:CET
DTSTART:20231029T010000
END:STANDARD
BEGIN:DAYLIGHT
TZOFFSETFROM:+0100
TZOFFSETTO:+0200
TZNAME:CEST
DTSTART:20240331T010000
END:DAYLIGHT
BEGIN:STANDARD
TZOFFSETFROM:+0200
TZOFFSETTO:+0100
TZNAME:CET
DTSTART:20241027T010000
END:STANDARD
BEGIN:DAYLIGHT
TZOFFSETFROM:+0100
TZOFFSETTO:+0200
TZNAME:CEST
DTSTART:20250330T010000
END:DAYLIGHT
BEGIN:STANDARD
TZOFFSETFROM:+0200
TZOFFSETTO:+0100
TZNAME:CET
DTSTART:20251026T010000
END:STANDARD
END:VTIMEZONE
BEGIN:VEVENT
DTSTART;VALUE=DATE:20240504
DTEND;VALUE=DATE:20240507
DTSTAMP:20260422T023022
CREATED:20240327T094443Z
LAST-MODIFIED:20240327T152558Z
UID:5776-1714780800-1715039999@armd-france.org
SUMMARY:Congrès SFO 2024
DESCRIPTION:La SFO organise son 130è Congrès du 4 au 6 mai 2024 au Palais des Congrès de Paris. \nL’avant-programme sera uniquement disponible en version digitale sur le site www.sfo-online.fr et régulièrement mis à jour. Il sera consultable également sur l’appli « SFO 2024 ». \nLe Rapport « Infections oculaires » sera présenté le lundi 6 mai par Bahram BODAGHI\, Tristan BOURCIER\, Marc LABETOULLE et leurs collaborateurs. \nLe Rapport « Œil et rayonnement » rédigé sous l’égide de la Société d’Ophtalmologie de Paris avec le soutien de la Société Française d’Ophtalmologie sera présenté le samedi 4 mai par Corinne DOT\, Frédéric MOURIAUX et leurs collaborateurs.\nCes deux rapports seront édités en version numérique et en version papier.  \n  \nLes 5 Conférences débats traiteront les thèmes : \n\nImmunomodulateurs en ophtalmologie\nQuand faut-il opérer un strabisme ?\nLes cataractes pathologiques\nAtrophie maculaire\, c’est quoi si ça n’est pas une DMLA ?\nExploration imagerie et suivi glaucomes en 2024\n\n  \nLes 2 thèmes d’Enseignement-Actualités sont : \n\nUvéites non infectieuses\nCornée\n\nPour en savoir plus\, rendez-vous sur le site www.sfo-online.fr
URL:https://armd-france.org/evenements/congres-sfo-2024/
LOCATION:Paris\, France
CATEGORIES:Congrès
ATTACH;FMTTYPE=image/jpeg:https://armd-france.org/wp-content/uploads/2024/03/societe-francaise-ophtalmologie-logo.jpg
END:VEVENT
BEGIN:VEVENT
DTSTART;VALUE=DATE:20240505
DTEND;VALUE=DATE:20240510
DTSTAMP:20260422T023022
CREATED:20240327T094648Z
LAST-MODIFIED:20240327T145324Z
UID:5778-1714867200-1715299199@armd-france.org
SUMMARY:ARVO 2024
DESCRIPTION:Une vision pour l’avenir est le thème retenu par l’ARVO 2024. \nLa recherche sur la vision est continuellement transformée par de nouvelles informations et technologies qui catalysent notre recherche dans le but de traiter\, de guérir et\, à terme\, de prévenir les maladies oculaires cécitantes. \nDu 5 au 9 mai\, Isabelle Aknin sera en reportage à Seattle pour une présentation des nouvelles recherches sous le thème « Vision pour l’avenir ». \n  \nPour en savoir plus\, rendez-vous sur le site https://www.arvo.org/annual-meeting/registration2/registration/
URL:https://armd-france.org/evenements/arvo-2024/
LOCATION:Seattle\, USA
CATEGORIES:Congrès
ATTACH;FMTTYPE=image/jpeg:https://armd-france.org/wp-content/uploads/2024/03/arvo-2024-logo.jpg
END:VEVENT
END:VCALENDAR