BEGIN:VCALENDAR
VERSION:2.0
PRODID:-//ARMD, Association de Rétine Méditerranéenne et Développement - ECPv6.15.20//NONSGML v1.0//EN
CALSCALE:GREGORIAN
METHOD:PUBLISH
X-WR-CALNAME:ARMD, Association de Rétine Méditerranéenne et Développement
X-ORIGINAL-URL:https://armd-france.org
X-WR-CALDESC:Évènements pour ARMD, Association de Rétine Méditerranéenne et Développement
REFRESH-INTERVAL;VALUE=DURATION:PT1H
X-Robots-Tag:noindex
X-PUBLISHED-TTL:PT1H
BEGIN:VTIMEZONE
TZID:Europe/Paris
BEGIN:DAYLIGHT
TZOFFSETFROM:+0100
TZOFFSETTO:+0200
TZNAME:CEST
DTSTART:20230326T010000
END:DAYLIGHT
BEGIN:STANDARD
TZOFFSETFROM:+0200
TZOFFSETTO:+0100
TZNAME:CET
DTSTART:20231029T010000
END:STANDARD
BEGIN:DAYLIGHT
TZOFFSETFROM:+0100
TZOFFSETTO:+0200
TZNAME:CEST
DTSTART:20240331T010000
END:DAYLIGHT
BEGIN:STANDARD
TZOFFSETFROM:+0200
TZOFFSETTO:+0100
TZNAME:CET
DTSTART:20241027T010000
END:STANDARD
BEGIN:DAYLIGHT
TZOFFSETFROM:+0100
TZOFFSETTO:+0200
TZNAME:CEST
DTSTART:20250330T010000
END:DAYLIGHT
BEGIN:STANDARD
TZOFFSETFROM:+0200
TZOFFSETTO:+0100
TZNAME:CET
DTSTART:20251026T010000
END:STANDARD
BEGIN:DAYLIGHT
TZOFFSETFROM:+0100
TZOFFSETTO:+0200
TZNAME:CEST
DTSTART:20260329T010000
END:DAYLIGHT
BEGIN:STANDARD
TZOFFSETFROM:+0200
TZOFFSETTO:+0100
TZNAME:CET
DTSTART:20261025T010000
END:STANDARD
BEGIN:DAYLIGHT
TZOFFSETFROM:+0100
TZOFFSETTO:+0200
TZNAME:CEST
DTSTART:20270328T010000
END:DAYLIGHT
BEGIN:STANDARD
TZOFFSETFROM:+0200
TZOFFSETTO:+0100
TZNAME:CET
DTSTART:20271031T010000
END:STANDARD
END:VTIMEZONE
BEGIN:VTIMEZONE
TZID:America/New_York
BEGIN:DAYLIGHT
TZOFFSETFROM:-0500
TZOFFSETTO:-0400
TZNAME:EDT
DTSTART:20230312T070000
END:DAYLIGHT
BEGIN:STANDARD
TZOFFSETFROM:-0400
TZOFFSETTO:-0500
TZNAME:EST
DTSTART:20231105T060000
END:STANDARD
BEGIN:DAYLIGHT
TZOFFSETFROM:-0500
TZOFFSETTO:-0400
TZNAME:EDT
DTSTART:20240310T070000
END:DAYLIGHT
BEGIN:STANDARD
TZOFFSETFROM:-0400
TZOFFSETTO:-0500
TZNAME:EST
DTSTART:20241103T060000
END:STANDARD
BEGIN:DAYLIGHT
TZOFFSETFROM:-0500
TZOFFSETTO:-0400
TZNAME:EDT
DTSTART:20250309T070000
END:DAYLIGHT
BEGIN:STANDARD
TZOFFSETFROM:-0400
TZOFFSETTO:-0500
TZNAME:EST
DTSTART:20251102T060000
END:STANDARD
END:VTIMEZONE
BEGIN:VEVENT
DTSTART;VALUE=DATE:20260225
DTEND;VALUE=DATE:20260228
DTSTAMP:20260420T115256
CREATED:20260319T165219Z
LAST-MODIFIED:20260319T170215Z
UID:8734-1771977600-1772236799@armd-france.org
SUMMARY:Congrès du Conde de Valenciana
DESCRIPTION:Le congrès du Conde de Valenciana se déroule du 25 au 27 février 2026 à Mexico.\nLe thème retenu cette année est : « Ce qui est actuellement possible dans les maladies vitréorétiniennes » \nCet événement sera une occasion unique de se tenir informé des dernières avancées\, grâce à la participation d’éminents professeurs nationaux et internationaux\, qui aborderont des thèmes d’une grande pertinence et d’actualité dans le domaine de la rétine. \nÉdition spéciale : À cette occasion\, nous célébrerons également le 50ᵉ anniversaire du Conde de Valenciana\, ce qui rendra cette rencontre un moment encore plus significatif pour l’échange de connaissances et d’expériences. \n  \nLe Dr Isabelle Aknin sera en reportage lors de cet événement exceptionnel en Amérique du Sud. Retrouvez l’ensemble des résumés et des interviews vidéo en cliquant ICI.
URL:https://armd-france.org/evenements/congreso-du-conde-de-valenciana/
LOCATION:Mexico\, Mexico
CATEGORIES:Congrès
ATTACH;FMTTYPE=image/png:https://armd-france.org/wp-content/uploads/2026/03/Conde-de-Valenciana_visuel.png
END:VEVENT
BEGIN:VEVENT
DTSTART;VALUE=DATE:20251205
DTEND;VALUE=DATE:20251207
DTSTAMP:20260420T115256
CREATED:20250703T135121Z
LAST-MODIFIED:20250825T164449Z
UID:8099-1764892800-1765065599@armd-france.org
SUMMARY:LOR - Congrès Lyon Oeil Rétine 2025
DESCRIPTION:9è Congrès Lyon Oeil Rétine – LOR 2025\nLa neuvième édition du Congrès LOR\, présidée par le Professeur Laurent Kodjikian\, qui aura lieu les 5 et 6 décembre 2025\, avec des pré-conférences dès le 4 décembre au soir (réservée aux professionnels de santé). Au programme\, une journée et demie de travail et de convivialité. \n\n\n\n\nPROGRAMME \n\n\n\n\n\n\n\n\nDécouvrez les thèmes des sessions du Congrès LOR 2025 : \n\nGlaucome\nDMLA\nUvéite\nControverses en ophtalmologie\nRétine\nPharmaceutique\nCas cliniques\nSécheresse oculaire\nChirurgie des trous maculaires\nInnovations et IA\n\n\n\nPour en savoir plus\, rendez-vous sur le site https://congres-lor.fr/
URL:https://armd-france.org/evenements/jao-2025/
LOCATION:Lyon\, France
CATEGORIES:Congrès
ATTACH;FMTTYPE=image/jpeg:https://armd-france.org/wp-content/uploads/2025/07/LOR2025.jpeg
END:VEVENT
BEGIN:VEVENT
DTSTART;VALUE=DATE:20251204
DTEND;VALUE=DATE:20251208
DTSTAMP:20260420T115256
CREATED:20251201T175819Z
LAST-MODIFIED:20251214T180338Z
UID:8506-1764806400-1765151999@armd-france.org
SUMMARY:Floretina 2025
DESCRIPTION:The first FLORetina meeting was organized in Florence in 2015. It gathered together a cross-Country Community of clinicians and Industry representatives\, discussing and debating the most relevant topics in the retina field.\nIn 2021 the annual Congress organized by Prof. Bruno Lumbroso – International Congress on OCT Angiography\, En Face OCT and Advances in OCT – was merged with FLORetinameeting\, thus forming the new FLORetina-ICOOR Annual Congress. \n  \nThis year\, FLORetina-ICOOR-2025 will be held jointly with the 5th World Retinopathy of Prematurity (ROP) Congress
URL:https://armd-france.org/evenements/floretina-2025/
LOCATION:Florence\, Florence\, Italy
CATEGORIES:Congrès
ATTACH;FMTTYPE=image/webp:https://armd-france.org/wp-content/uploads/2025/12/header-congress-2025-scaled.webp
END:VEVENT
BEGIN:VEVENT
DTSTART;VALUE=DATE:20251017
DTEND;VALUE=DATE:20251021
DTSTAMP:20260420T115256
CREATED:20250703T134613Z
LAST-MODIFIED:20250703T134706Z
UID:8094-1760659200-1761004799@armd-france.org
SUMMARY:AAO 2025
DESCRIPTION:Conférence de l’American Academy of Ophthalmology – AAO 2025\n  \nWhere All of Ophthalmology Meets®\nImagine joining colleagues from around the world at AAO 2025. The Academy’s annual meeting will take place at the Orange County Convention Center in Orlando. \n  \n 
URL:https://armd-france.org/evenements/aao-2025/
LOCATION:Orlando\, Orlando\, United States
CATEGORIES:Congrès
ATTACH;FMTTYPE=image/png:https://armd-france.org/wp-content/uploads/2025/07/AAO2025.png
END:VEVENT
BEGIN:VEVENT
DTSTART;VALUE=DATE:20250912
DTEND;VALUE=DATE:20250917
DTSTAMP:20260420T115256
CREATED:20250703T133522Z
LAST-MODIFIED:20250703T133911Z
UID:8089-1757635200-1758067199@armd-france.org
SUMMARY:ESCRS 2025
DESCRIPTION:43ᵉ Congrès de la Société Européenne de la Cataracte et de la Chirurgie Réfractive – ESCRS 2025\nLe 43ᵉ Congrès de l’ESCRS à Copenhague mettra en avant les dernières avancées et innovations en ophtalmologie\, offrant une plateforme d’échange de connaissances et de réseautage entre experts du monde entier. Le programme inclura des symposiums principaux\, des cours pratiques\, des ateliers Wetlabs\, des sessions vidéos\, des présentations orales et par affiches\, ainsi que des sessions thématiques spécifiques.
URL:https://armd-france.org/evenements/escrs-2025/
LOCATION:Bella center\, Copenhagen\, Copenhague\, Denmark
CATEGORIES:Congrès
ATTACH;FMTTYPE=image/webp:https://armd-france.org/wp-content/uploads/2025/07/congressi_eyepharma-ESCRS-2025.webp
END:VEVENT
BEGIN:VEVENT
DTSTART;VALUE=DATE:20250903
DTEND;VALUE=DATE:20250908
DTSTAMP:20260420T115256
CREATED:20250703T133143Z
LAST-MODIFIED:20250703T133143Z
UID:8085-1756857600-1757289599@armd-france.org
SUMMARY:Euretina Congress 2025
DESCRIPTION:Le 25e Congrès Euretina se tiendra au Palais des Congrès à Paris\, France\, du 4 au 7 septembre 2025. Celui-ci sera précédé par le Euretina Innovation Spotlight (EIS)\, qui aura lieu le 3 septembre 2025 au Palais des Congrès.
URL:https://armd-france.org/evenements/euretina-congress-2025/
LOCATION:Palais des congrès de Paris\, Paris\, France
CATEGORIES:Congrès
ATTACH;FMTTYPE=image/jpeg:https://armd-france.org/wp-content/uploads/2025/07/Euretina-congress-25.jpg
END:VEVENT
BEGIN:VEVENT
DTSTART;VALUE=DATE:20250629
DTEND;VALUE=DATE:20250702
DTSTAMP:20260420T115256
CREATED:20250603T152609Z
LAST-MODIFIED:20250603T152609Z
UID:8032-1751155200-1751414399@armd-france.org
SUMMARY:MACULART Meeting
DESCRIPTION:La troisième édition du congrès International Maculart Meeting se tiendra au Novotel Paris Centre Tour Eiffel\, du 29 juin au 1er juillet 2025. \nPoints forts de Maculart International Meeting 2025 : \n\nTechniques d’Imagerie de Pointe : plongez dans les dernières avancées en matière d’imagerie\, y compris l’angiographie OCT et d’autres technologies révolutionnaires.\nTraitements Innovants : explorez de nouvelles approches thérapeutiques\, notamment la thérapie génique\, pour des affections telles que la dégénérescence maculaire liée à l’âge (DMLA) et l’œdème maculaire diabétique (OMD).\nStratégies Préventives : participez à des sessions dynamiques axées sur la prévention des maladies maculaires et la préservation de la vision.\nInnovations Chirurgicales : découvrez les dernières techniques chirurgicales et leur impact révolutionnaire sur le traitement des patients.\nOpportunités de Réseautage : connectez-vous avec les principaux spécialistes et chercheurs\, favorisant de précieuses collaborations et l’échange d’idées révolutionnaires. Ces moments d’échange sont cruciaux\, car interagir avec nos pairs peut considérablement stimuler notre créativité et notre innovation.
URL:https://armd-france.org/evenements/maculart-meeting/
LOCATION:Paris\, France
CATEGORIES:Congrès
ATTACH;FMTTYPE=image/png:https://armd-france.org/wp-content/uploads/2025/06/MACULART_2025_0.png
END:VEVENT
BEGIN:VEVENT
DTSTART;VALUE=DATE:20250510
DTEND;VALUE=DATE:20250513
DTSTAMP:20260420T115256
CREATED:20250213T093207Z
LAST-MODIFIED:20250213T095221Z
UID:7537-1746835200-1747094399@armd-france.org
SUMMARY:Congrès SFO 2025
DESCRIPTION:Le 131è Congrès de la Société Française d’Ophtalmologie se déroule du 10 au 12 mai 2025 au Palais des Congrès de Paris. \nL’ARMD sera présente lors de cet événement incontournable. Au programme : interviews\, reportages\, analyses\, synthèses\, etc. à suivre en direct via le compte LinkedIn (je m’abonne en suivant ce lien) et la newsletter ARMD (je m’abonne en suivant ce lien).
URL:https://armd-france.org/evenements/congres-sfo-2025/
LOCATION:Paris\, France
CATEGORIES:Congrès
ATTACH;FMTTYPE=image/jpeg:https://armd-france.org/wp-content/uploads/2025/02/SFO_CONGRES-2025.jpg
END:VEVENT
BEGIN:VEVENT
DTSTART;VALUE=DATE:20250504
DTEND;VALUE=DATE:20250509
DTSTAMP:20260420T115256
CREATED:20250213T091520Z
LAST-MODIFIED:20250213T092456Z
UID:7531-1746316800-1746748799@armd-france.org
SUMMARY:ARVO 2025
DESCRIPTION:Le congrès ARVO 2025 met en lumière les avancées remarquables dans le domaine de l’ophtalmologie et des sciences de la vision\, portées par les innovations technologiques et l’intelligence artificielle. \nGrâce à un niveau de détail sans précédent\, allant de l’exploration microscopique à macroscopique\, ces percées ouvrent de nouvelles perspectives pour comprendre les maladies oculaires et façonner l’avenir des sciences de la vision. \nRendez-vous du 4 au 8 mai à Salt Lake City\, dans l’Utah. \n  \n> Le Dr Isabelle Aknin sera en reportage au fil de l’ARVO 2025 et communiquera des interviews\, des synthèses\, des analyses en direct. Stay tuned > abonnez-vous à la newsletter en suivant ce lien\, au compte LinkedIn en suivant cet autre lien.
URL:https://armd-france.org/evenements/arvo-2025/
LOCATION:salt lake city\, United States
CATEGORIES:Congrès
ATTACH;FMTTYPE=image/jpeg:https://armd-france.org/wp-content/uploads/2025/02/arvo-2025.jpg
END:VEVENT
BEGIN:VEVENT
DTSTART;VALUE=DATE:20250328
DTEND;VALUE=DATE:20250329
DTSTAMP:20260420T115256
CREATED:20250213T090638Z
LAST-MODIFIED:20250213T090710Z
UID:7527-1743120000-1743206399@armd-france.org
SUMMARY:Rétine en pratique
DESCRIPTION:Thème : Comment la choroïde est impliquée dans les maladies du fond d’œil \n  \n\n\n\n\n\n\n\nLes récents progrès de l’imagerie par OCT ont révolutionné notre compréhension de la choroïde\, mettant en lumière son rôle clé dans le diagnostic et le pronostic des maladies rétiniennes. Cette journée d’enseignement offrira une vue d’ensemble des variations choroïdiennes\, tant en conditions normales que pathologiques\, notamment dans des affections comme la myopie forte\, la maladie de Harada\, la DMLA et la CSC. Les participants découvriront les dernières avancées en matière d’imagerie\, telles que l’holographie Doppler et l’OCT ultra grand-champ\, ainsi que de nouvelles approches thérapeutiques ciblant la choroïde. Rejoignez des experts de renom pour une synthèse des connaissances actuelles et des conseils pratiques dans ce domaine clé des soins rétiniens.\n\nLa Journée d’Enseignement Rétine en Pratique 2025 aura lieu à la Maison de la Chimie\, à Paris\, le vendredi 28 mars.
URL:https://armd-france.org/evenements/retine-en-pratique/
LOCATION:Paris\, France
CATEGORIES:Congrès
ATTACH;FMTTYPE=image/png:https://armd-france.org/wp-content/uploads/2025/02/Retine-en-pratique-2025.png
END:VEVENT
BEGIN:VEVENT
DTSTART;VALUE=DATE:20250321
DTEND;VALUE=DATE:20250323
DTSTAMP:20260420T115256
CREATED:20250213T084159Z
LAST-MODIFIED:20250213T084159Z
UID:7519-1742515200-1742687999@armd-france.org
SUMMARY:25è Journées de Réflexions Ophtalmologiques - JRO
DESCRIPTION:La 25è édition des JRO se déroule les vendredi 21 et samedi 22 mars au CNIT\, à Paris. Chirurgie\, Ophtalmopédiatrie\, Strabologie\, Orthoptie\, Cataracte\, Glaucome\, Cornée\, Contactologie\, Rétine\, Neuro… toutes les spécialités seront abordées.
URL:https://armd-france.org/evenements/25e-journees-de-reflexions-ophtalmologiques-jro/
LOCATION:Paris\, France
CATEGORIES:Congrès
ATTACH;FMTTYPE=image/jpeg:https://armd-france.org/wp-content/uploads/2025/02/JRO-2025.jpg
END:VEVENT
BEGIN:VEVENT
DTSTART;TZID=Europe/Paris:20250212T080000
DTEND;TZID=Europe/Paris:20250215T170000
DTSTAMP:20260420T115256
CREATED:20250213T090128Z
LAST-MODIFIED:20250213T090137Z
UID:7523-1739347200-1739638800@armd-france.org
SUMMARY:48è Rencontre de la Macula Society
DESCRIPTION:Fondée en 1977\, la Macula Society est un forum dédié à la recherche sur les maladies vasculaires rétiniennes et maculaires. L’adhésion se fait sur candidature\, avec des critères d’acceptation incluant une contribution significative à la littérature scientifique sur la rétine. La Macula Society récompense les réalisations remarquables de ses membres et d’autres acteurs par le biais de prix et de conférences\, et organise une réunion annuelle ouverte aux membres\, à leurs invités\, aux co-auteurs et aux représentants des entreprises partenaires.
URL:https://armd-france.org/evenements/48e-rencontre-de-la-macula-society/
LOCATION:Charlotte Harbour\, United States
CATEGORIES:Congrès
ATTACH;FMTTYPE=image/png:https://armd-france.org/wp-content/uploads/2025/02/Macula-Society-fev2025.png
END:VEVENT
BEGIN:VEVENT
DTSTART;TZID=Europe/Paris:20250125T080000
DTEND;TZID=Europe/Paris:20250126T190000
DTSTAMP:20260420T115256
CREATED:20250122T105846Z
LAST-MODIFIED:20250122T132146Z
UID:7467-1737792000-1737918000@armd-france.org
SUMMARY:Journées Nationales de la SFRétine
DESCRIPTION:Le bureau de la SFRétine a le plaisir de vous convier aux Journées Nationales de la SFRétine\, qui auront lieu les 25 et 26 janvier 2025 à l’Espace Saint Martin (Paris III)\, sous la présidence du Dr Thibaud Mathis. \nInformations pratiques\nObtenez votre billet pour assister au congrès sur la plateforme www.sfretine-online.fr. \nPour obtenir votre billet vous devez créer un comptesur la plateforme. Une fois connecté\, cliquez ensuite sur le bouton « Obtenir mon billet pour le présentiel »sur la carte de l’évènement puis suivez la procédure. Une fois votre billet téléchargé\, merci d’imprimer votre billet et de venir avec le jour J. \n  \nPour en savoir plus\, rendez-vous sur le site https://www.sfretine-online.fr/events
URL:https://armd-france.org/evenements/journees-nationales-de-la-sfretine/
CATEGORIES:Congrès
ATTACH;FMTTYPE=image/png:https://armd-france.org/wp-content/uploads/2025/01/SFRetine.png
END:VEVENT
BEGIN:VEVENT
DTSTART;VALUE=DATE:20241025
DTEND;VALUE=DATE:20241027
DTSTAMP:20260420T115256
CREATED:20240327T094853Z
LAST-MODIFIED:20240724T212635Z
UID:5780-1729814400-1729987199@armd-france.org
SUMMARY:2 ème congrès de la SMIO\, Société Marocaine d’Imagerie Oculaire
DESCRIPTION:2 ° congrès de la SMIO\, Société Marocaine d’Imagerie Oculaire \nAu programme : Tout sur l’Imagerie Oculaire\,  les nouveautés et IA \nUn congrès organisé en partenariat avec l’ARMD. \nSave the date ! \n25 et 26 octobre 2024 \nRabat \nRenseignements : https://www.societesmio.ma/Pages/evenements \n  \nInscription : https://www.societesmio.ma/Pages/preinscription
URL:https://armd-france.org/evenements/2-eme-congres-de-la-smio-societe-marocaine-dimagerie-oculaire/
LOCATION:RABAT\, Morocco
CATEGORIES:Congrès
ATTACH;FMTTYPE=image/jpeg:https://armd-france.org/wp-content/uploads/2024/03/deuxieme-congres-smio.jpg
END:VEVENT
BEGIN:VEVENT
DTSTART;TZID=America/New_York:20241018T080000
DTEND;TZID=America/New_York:20241021T170000
DTSTAMP:20260420T115256
CREATED:20240724T185629Z
LAST-MODIFIED:20240724T213053Z
UID:6654-1729238400-1729530000@armd-france.org
SUMMARY:American Academy of Ophthalmology
DESCRIPTION:Les missions de l’AAO\nProtéger la vue\, améliorer la vie en aidant les patients et les médecins. Proposer des formations leader en ophtalmologie et des protocoles de traitement\, supporter la recherche … L’ambition est là ! \nL’AAO\nC’est la plus grande association d’ophtalmologistes au monde avec plus de 32 000 adhérents.\nLe congrès annuel se compose de \n\ndeux jours de Subspeciality Days\, avec une sous-spécialité par salle de conférence\ntrois jours de congrès avec une reprise des données présentées lors des diverses subspeciality days\n\nC’est à Chicago \nC’est en octobre \nVous ne pouvez pas y aller? ARMD Reportage y sera pour la session Rétine des Subspeciality Days \n  \n 
URL:https://armd-france.org/evenements/american-academy-of-ophthalmology/
LOCATION:Chicago\, Mc Cormick Place 2301 S Martin Luther King Dr\, Chicago\, Illinois\, USA
END:VEVENT
BEGIN:VEVENT
DTSTART;VALUE=DATE:20240919
DTEND;VALUE=DATE:20240923
DTSTAMP:20260420T115256
CREATED:20240724T182819Z
LAST-MODIFIED:20240914T110950Z
UID:6648-1726704000-1727049599@armd-france.org
SUMMARY:Euretina 2024
DESCRIPTION:Euretina est le congrès « de rétine » qui réunit le plus de participants au monde ! \nCette année\, les organisateurs ont choisi Barcelone. Je vous propose de retrouver ARMD à l’occasion d’EURETINA 2024\, du 19 au 22 septembre. \n  \nEn pratique \nInscription : https://euretina.org/barcelona-2024/registration/ \nInformations sur: https://euretina.org/barcelona-2024/programme-overview/ \n  \n> Vous ne pouvez pas assister à EURETINA 2024 ? ARMD y sera ! Le Dr Isabelle Aknin couvrira le congrès et livrera des reportages\, des interviews et des décryptages au quotidien. \n👉 Suivez ARMD sur LinkedIn en cliquant ici. \n👉 Restez informé…\, abonnez-vous à la newsletter ARMD\, c’est par là.
URL:https://armd-france.org/evenements/euretina/
LOCATION:barcelone\, Espagne
CATEGORIES:Congrès
ORGANIZER;CN="Euretina":MAILTO:registration@euretina.org
END:VEVENT
BEGIN:VEVENT
DTSTART;VALUE=DATE:20240505
DTEND;VALUE=DATE:20240510
DTSTAMP:20260420T115256
CREATED:20240327T094648Z
LAST-MODIFIED:20240327T145324Z
UID:5778-1714867200-1715299199@armd-france.org
SUMMARY:ARVO 2024
DESCRIPTION:Une vision pour l’avenir est le thème retenu par l’ARVO 2024. \nLa recherche sur la vision est continuellement transformée par de nouvelles informations et technologies qui catalysent notre recherche dans le but de traiter\, de guérir et\, à terme\, de prévenir les maladies oculaires cécitantes. \nDu 5 au 9 mai\, Isabelle Aknin sera en reportage à Seattle pour une présentation des nouvelles recherches sous le thème « Vision pour l’avenir ». \n  \nPour en savoir plus\, rendez-vous sur le site https://www.arvo.org/annual-meeting/registration2/registration/
URL:https://armd-france.org/evenements/arvo-2024/
LOCATION:Seattle\, USA
CATEGORIES:Congrès
ATTACH;FMTTYPE=image/jpeg:https://armd-france.org/wp-content/uploads/2024/03/arvo-2024-logo.jpg
END:VEVENT
BEGIN:VEVENT
DTSTART;VALUE=DATE:20240504
DTEND;VALUE=DATE:20240507
DTSTAMP:20260420T115256
CREATED:20240327T094443Z
LAST-MODIFIED:20240327T152558Z
UID:5776-1714780800-1715039999@armd-france.org
SUMMARY:Congrès SFO 2024
DESCRIPTION:La SFO organise son 130è Congrès du 4 au 6 mai 2024 au Palais des Congrès de Paris. \nL’avant-programme sera uniquement disponible en version digitale sur le site www.sfo-online.fr et régulièrement mis à jour. Il sera consultable également sur l’appli « SFO 2024 ». \nLe Rapport « Infections oculaires » sera présenté le lundi 6 mai par Bahram BODAGHI\, Tristan BOURCIER\, Marc LABETOULLE et leurs collaborateurs. \nLe Rapport « Œil et rayonnement » rédigé sous l’égide de la Société d’Ophtalmologie de Paris avec le soutien de la Société Française d’Ophtalmologie sera présenté le samedi 4 mai par Corinne DOT\, Frédéric MOURIAUX et leurs collaborateurs.\nCes deux rapports seront édités en version numérique et en version papier.  \n  \nLes 5 Conférences débats traiteront les thèmes : \n\nImmunomodulateurs en ophtalmologie\nQuand faut-il opérer un strabisme ?\nLes cataractes pathologiques\nAtrophie maculaire\, c’est quoi si ça n’est pas une DMLA ?\nExploration imagerie et suivi glaucomes en 2024\n\n  \nLes 2 thèmes d’Enseignement-Actualités sont : \n\nUvéites non infectieuses\nCornée\n\nPour en savoir plus\, rendez-vous sur le site www.sfo-online.fr
URL:https://armd-france.org/evenements/congres-sfo-2024/
LOCATION:Paris\, France
CATEGORIES:Congrès
ATTACH;FMTTYPE=image/jpeg:https://armd-france.org/wp-content/uploads/2024/03/societe-francaise-ophtalmologie-logo.jpg
END:VEVENT
BEGIN:VEVENT
DTSTART;VALUE=DATE:20240418
DTEND;VALUE=DATE:20240422
DTSTAMP:20260420T115256
CREATED:20240327T094057Z
LAST-MODIFIED:20240327T143734Z
UID:5772-1713398400-1713743999@armd-france.org
SUMMARY:Congrès Retina 2024
DESCRIPTION:La nouvelle édition du Congrès Retina se tiendra à Sao Paulo du 18 au 21 avril 2024. \nL’objectif principal de cet événement est la sélection et l’analyse des données pertinentes des études cliniques par les spécialistes afin d’en faciliter l’usage dans le cadre d’une pratique quotidienne plus efficace. \nLe congrès sera aussi une plateforme pour débattre des contributions potentielles de l’intelligence artificielle au diagnostic et à la gestion des maladies vitréo-rétiniennes\, tout en maintenant la responsabilité essentielle des médecins en tant que premiers gardiens du bien-être des patients. \nPour en savoir plus\, consultez le site du congrès : https://retina2024.com.br
URL:https://armd-france.org/evenements/congres-retina-2024/
LOCATION:Sao Paulo\, Brésil
CATEGORIES:Congrès
ATTACH;FMTTYPE=image/jpeg:https://armd-france.org/wp-content/uploads/2024/03/retina-congres-sao-paulo-2024.jpg
END:VEVENT
END:VCALENDAR