BEGIN:VCALENDAR
VERSION:2.0
PRODID:-//ARMD, Association de Rétine Méditerranéenne et Développement - ECPv6.15.20//NONSGML v1.0//EN
CALSCALE:GREGORIAN
METHOD:PUBLISH
X-ORIGINAL-URL:https://armd-france.org
X-WR-CALDESC:Évènements pour ARMD, Association de Rétine Méditerranéenne et Développement
REFRESH-INTERVAL;VALUE=DURATION:PT1H
X-Robots-Tag:noindex
X-PUBLISHED-TTL:PT1H
BEGIN:VTIMEZONE
TZID:Europe/Paris
BEGIN:DAYLIGHT
TZOFFSETFROM:+0100
TZOFFSETTO:+0200
TZNAME:CEST
DTSTART:20240331T010000
END:DAYLIGHT
BEGIN:STANDARD
TZOFFSETFROM:+0200
TZOFFSETTO:+0100
TZNAME:CET
DTSTART:20241027T010000
END:STANDARD
BEGIN:DAYLIGHT
TZOFFSETFROM:+0100
TZOFFSETTO:+0200
TZNAME:CEST
DTSTART:20250330T010000
END:DAYLIGHT
BEGIN:STANDARD
TZOFFSETFROM:+0200
TZOFFSETTO:+0100
TZNAME:CET
DTSTART:20251026T010000
END:STANDARD
BEGIN:DAYLIGHT
TZOFFSETFROM:+0100
TZOFFSETTO:+0200
TZNAME:CEST
DTSTART:20260329T010000
END:DAYLIGHT
BEGIN:STANDARD
TZOFFSETFROM:+0200
TZOFFSETTO:+0100
TZNAME:CET
DTSTART:20261025T010000
END:STANDARD
END:VTIMEZONE
BEGIN:VEVENT
DTSTART;VALUE=DATE:20250504
DTEND;VALUE=DATE:20250509
DTSTAMP:20260420T092450
CREATED:20250213T091520Z
LAST-MODIFIED:20250213T092456Z
UID:7531-1746316800-1746748799@armd-france.org
SUMMARY:ARVO 2025
DESCRIPTION:Le congrès ARVO 2025 met en lumière les avancées remarquables dans le domaine de l’ophtalmologie et des sciences de la vision\, portées par les innovations technologiques et l’intelligence artificielle. \nGrâce à un niveau de détail sans précédent\, allant de l’exploration microscopique à macroscopique\, ces percées ouvrent de nouvelles perspectives pour comprendre les maladies oculaires et façonner l’avenir des sciences de la vision. \nRendez-vous du 4 au 8 mai à Salt Lake City\, dans l’Utah. \n  \n> Le Dr Isabelle Aknin sera en reportage au fil de l’ARVO 2025 et communiquera des interviews\, des synthèses\, des analyses en direct. Stay tuned > abonnez-vous à la newsletter en suivant ce lien\, au compte LinkedIn en suivant cet autre lien.
URL:https://armd-france.org/evenements/arvo-2025/
LOCATION:salt lake city\, United States
CATEGORIES:Congrès
ATTACH;FMTTYPE=image/jpeg:https://armd-france.org/wp-content/uploads/2025/02/arvo-2025.jpg
END:VEVENT
END:VCALENDAR